BEGIN:VCALENDAR
VERSION:2.0
PRODID:-//www.lincolnanimalambassadors.org//NONSGML kigkonsult.se iCalcreat
 or 2.30.10//
CALSCALE:GREGORIAN
METHOD:PUBLISH
UID:d1067ee0-221f-4d38-b941-7ae36ffa4d22
X-WR-CALDESC:
X-WR-RELCALID:e3f8c35fc19bded144864b45ed788c19
X-WR-TIMEZONE:America/Chicago
BEGIN:VTIMEZONE
TZID:America/Chicago
BEGIN:STANDARD
TZNAME:CST
DTSTART:20251102T020000
TZOFFSETFROM:-0500
TZOFFSETTO:-0600
RDATE:20261101T020000
RDATE:20271107T020000
END:STANDARD
BEGIN:DAYLIGHT
TZNAME:CDT
DTSTART:20260308T020000
TZOFFSETFROM:-0600
TZOFFSETTO:-0500
RDATE:20270314T020000
END:DAYLIGHT
END:VTIMEZONE
BEGIN:VEVENT
UID:29d46e2d-029f-465a-9fda-d7de90f27fc3
DTSTAMP:20260424T105819Z
DESCRIPTION:
DTSTART;TZID=America/Chicago:20260528T050000
DTEND;TZID=America/Chicago:20260528T050001
LOCATION:
SUMMARY:Give to Lincoln Day
END:VEVENT
END:VCALENDAR
